BEGIN:VCALENDAR
VERSION:2.0
PRODID:-//The Trinitarians - India - ECPv5.3.2.1//NONSGML v1.0//EN
CALSCALE:GREGORIAN
METHOD:PUBLISH
X-WR-CALNAME:The Trinitarians - India
X-ORIGINAL-URL:https://trinitariansindia.org/wp
X-WR-CALDESC:Events for The Trinitarians - India
BEGIN:VTIMEZONE
TZID:UTC
BEGIN:STANDARD
TZOFFSETFROM:+0000
TZOFFSETTO:+0000
TZNAME:UTC
DTSTART:20190101T000000
END:STANDARD
END:VTIMEZONE
BEGIN:VEVENT
DTSTART;VALUE=DATE:20190317
DTEND;VALUE=DATE:20190318
DTSTAMP:20260424T040554
CREATED:20190414T092811Z
LAST-MODIFIED:20190414T092811Z
UID:5873-1552780800-1552867199@trinitariansindia.org
SUMMARY:Farewell to Bro. Jimmy
DESCRIPTION:After the Sunday Mass the community gave farewell to Br. Jimmy\, the regent of Tamulpur. His parents and sister were also present for the farewell. The congregation thanked him for his service and wished him all the best for his future studies.
URL:https://trinitariansindia.org/wp/event/farewell-to-bro-jimmy/
LOCATION:Tritva Bhavan\, Assam
CATEGORIES:Farewell
ATTACH;FMTTYPE=image/png:https://trinitariansindia.org/wp/wp-content/uploads/2019/04/ASSAM-visit-of-Jimmy-fmly-March-2019.png
END:VEVENT
END:VCALENDAR