BEGIN:VCALENDAR
VERSION:2.0
PRODID:-//The Trinitarians - India - ECPv5.3.2.1//NONSGML v1.0//EN
CALSCALE:GREGORIAN
METHOD:PUBLISH
X-WR-CALNAME:The Trinitarians - India
X-ORIGINAL-URL:https://trinitariansindia.org/wp
X-WR-CALDESC:Events for The Trinitarians - India
BEGIN:VTIMEZONE
TZID:UTC
BEGIN:STANDARD
TZOFFSETFROM:+0000
TZOFFSETTO:+0000
TZNAME:UTC
DTSTART:20190101T000000
END:STANDARD
END:VTIMEZONE
BEGIN:VEVENT
DTSTART;VALUE=DATE:20190330
DTEND;VALUE=DATE:20190331
DTSTAMP:20260424T143110
CREATED:20190412T105741Z
LAST-MODIFIED:20190412T105741Z
UID:5845-1553904000-1553990399@trinitariansindia.org
SUMMARY:Farewell to Fr. Vinaya Kumar\, O.SS.T.
DESCRIPTION:The community arranged a farewell program to Fr. Vinay\, who served the community for an year as the Asst. Director of Formation.  The brothers and Fathers expressed their sentiments of gratitude especially for the service and commitment of Fr. Vinay to the Thrissur community last one year. There was a colorful program arranged by the brothers.
URL:https://trinitariansindia.org/wp/event/farewell-to-fr-vinaya-kumar-o-ss-t/
LOCATION:Holy Trinity Ashram\, Thrissur\, Holy Trinity Ashram\, Thrissur\, Kerala\, 680618\, India
CATEGORIES:Farewell
ATTACH;FMTTYPE=image/png:https://trinitariansindia.org/wp/wp-content/uploads/2019/04/TCR-farewell-Vinay-March2019.png
END:VEVENT
END:VCALENDAR