BEGIN:VCALENDAR
VERSION:2.0
PRODID:-//The Trinitarians - India - ECPv5.3.2.1//NONSGML v1.0//EN
CALSCALE:GREGORIAN
METHOD:PUBLISH
X-WR-CALNAME:The Trinitarians - India
X-ORIGINAL-URL:https://trinitariansindia.org/wp
X-WR-CALDESC:Events for The Trinitarians - India
BEGIN:VTIMEZONE
TZID:UTC
BEGIN:STANDARD
TZOFFSETFROM:+0000
TZOFFSETTO:+0000
TZNAME:UTC
DTSTART:20260101T000000
END:STANDARD
END:VTIMEZONE
BEGIN:VEVENT
DTSTART;VALUE=DATE:20260324
DTEND;VALUE=DATE:20260325
DTSTAMP:20260423T134319
CREATED:20260418T233913Z
LAST-MODIFIED:20260418T233913Z
UID:14066-1774310400-1774396799@trinitariansindia.org
SUMMARY:Farewell to Frs Jolly and Jaison
DESCRIPTION:The community organized a farewell gathering for Fr. Jolly and Fr. Jaison as they moved to their new assignments. Fr. Jaison presided over the Holy Mass\, and Fr. Jolly delivered the homily.
URL:https://trinitariansindia.org/wp/event/farewell-to-frs-jolly-and-jaison/
LOCATION:Tritva Bhavan\, Assam
CATEGORIES:Farewell
ATTACH;FMTTYPE=image/png:https://trinitariansindia.org/wp/wp-content/uploads/2026/04/ASSAM-Farewell-March2026.png
END:VEVENT
END:VCALENDAR