BEGIN:VCALENDAR
VERSION:2.0
PRODID:-//The Trinitarians - India - ECPv5.3.2.1//NONSGML v1.0//EN
CALSCALE:GREGORIAN
METHOD:PUBLISH
X-WR-CALNAME:The Trinitarians - India
X-ORIGINAL-URL:https://trinitariansindia.org/wp
X-WR-CALDESC:Events for The Trinitarians - India
BEGIN:VTIMEZONE
TZID:UTC
BEGIN:STANDARD
TZOFFSETFROM:+0000
TZOFFSETTO:+0000
TZNAME:UTC
DTSTART:20210101T000000
END:STANDARD
END:VTIMEZONE
BEGIN:VEVENT
DTSTART;VALUE=DATE:20210602
DTEND;VALUE=DATE:20210603
DTSTAMP:20260421T153630
CREATED:20210719T092432Z
LAST-MODIFIED:20210719T092432Z
UID:8958-1622592000-1622678399@trinitariansindia.org
SUMMARY:Farewell to Plus Two Brothers
DESCRIPTION:We arranged a Sent-Off program for our beloved senior brothers – Bros. Nysal\, Alan and Joyal. Bro. Don Savio felicitated them on behalf of the brothers and Frs. Bitaju and Jins felicitated them from the father’s side. The Community wished them all the success to their next level of their formation programs. We also wished Fr. Rinto\, who takes up the responsibility of  the ‘Master of Postulants.’
URL:https://trinitariansindia.org/wp/event/farewell-to-plus-two-brothers/
LOCATION:Holy Trinity Ashram\, Thrissur\, Holy Trinity Ashram\, Thrissur\, Kerala\, 680618\, India
CATEGORIES:Farewell
ATTACH;FMTTYPE=image/png:https://trinitariansindia.org/wp/wp-content/uploads/2021/07/TCR-farewell-June-2021.png
END:VEVENT
END:VCALENDAR