BEGIN:VCALENDAR
VERSION:2.0
PRODID:-//The Trinitarians - India - ECPv5.3.2.1//NONSGML v1.0//EN
CALSCALE:GREGORIAN
METHOD:PUBLISH
X-WR-CALNAME:The Trinitarians - India
X-ORIGINAL-URL:https://trinitariansindia.org/wp
X-WR-CALDESC:Events for The Trinitarians - India
BEGIN:VTIMEZONE
TZID:UTC
BEGIN:STANDARD
TZOFFSETFROM:+0000
TZOFFSETTO:+0000
TZNAME:UTC
DTSTART:20220101T000000
END:STANDARD
END:VTIMEZONE
BEGIN:VEVENT
DTSTART;VALUE=DATE:20220609
DTEND;VALUE=DATE:20220610
DTSTAMP:20260421T141740
CREATED:20220712T044222Z
LAST-MODIFIED:20220712T044222Z
UID:10493-1654732800-1654819199@trinitariansindia.org
SUMMARY:Farewell to Senior Students
DESCRIPTION:The Community gave a warm sent off to the outgoing batch this day. Bros. Michael\, Silbestar\, Ialammikky and Sujan were given the sent off. Fr. Bitaju congratulated and wished them for their next level of formation. Each of them shared from their experience being here in the minor seminary. All the best to our postulants.
URL:https://trinitariansindia.org/wp/event/farewell-to-senior-students/
LOCATION:Holy Trinity Ashram\, Thrissur\, Holy Trinity Ashram\, Thrissur\, Kerala\, 680618\, India
CATEGORIES:Farewell
ATTACH;FMTTYPE=image/png:https://trinitariansindia.org/wp/wp-content/uploads/2022/07/TCR-farewell-to-seniors-June2022.png
END:VEVENT
END:VCALENDAR