BEGIN:VCALENDAR
VERSION:2.0
PRODID:-//The Trinitarians - India - ECPv5.3.2.1//NONSGML v1.0//EN
CALSCALE:GREGORIAN
METHOD:PUBLISH
X-WR-CALNAME:The Trinitarians - India
X-ORIGINAL-URL:https://trinitariansindia.org/wp
X-WR-CALDESC:Events for The Trinitarians - India
BEGIN:VTIMEZONE
TZID:UTC
BEGIN:STANDARD
TZOFFSETFROM:+0000
TZOFFSETTO:+0000
TZNAME:UTC
DTSTART:20200101T000000
END:STANDARD
END:VTIMEZONE
BEGIN:VEVENT
DTSTART;VALUE=DATE:20201024
DTEND;VALUE=DATE:20201025
DTSTAMP:20260425T182843
CREATED:20201110T164457Z
LAST-MODIFIED:20201110T164457Z
UID:8134-1603497600-1603583999@trinitariansindia.org
SUMMARY:Farewell to Sir Jenny Paul
DESCRIPTION:Community gave farewell to Sir Jenny Paul\, the army commander.  Sir Jenny Paul was transferred from Tamulpur.  He is one of our benefactor and well-wisher.
URL:https://trinitariansindia.org/wp/event/farewell-to-sir-jenny-paul/
LOCATION:Tritva Bhavan\, Assam
CATEGORIES:Farewell
ATTACH;FMTTYPE=image/png:https://trinitariansindia.org/wp/wp-content/uploads/2020/11/ASSAM-farewell-to-Mr.Jean-Paul-Oct2020.png
END:VEVENT
END:VCALENDAR