BEGIN:VCALENDAR
VERSION:2.0
PRODID:-//The Trinitarians - India - ECPv5.3.2.1//NONSGML v1.0//EN
CALSCALE:GREGORIAN
METHOD:PUBLISH
X-WR-CALNAME:The Trinitarians - India
X-ORIGINAL-URL:https://trinitariansindia.org/wp
X-WR-CALDESC:Events for The Trinitarians - India
BEGIN:VTIMEZONE
TZID:UTC
BEGIN:STANDARD
TZOFFSETFROM:+0000
TZOFFSETTO:+0000
TZNAME:UTC
DTSTART:20220101T000000
END:STANDARD
END:VTIMEZONE
BEGIN:VEVENT
DTSTART;VALUE=DATE:20221113
DTEND;VALUE=DATE:20221114
DTSTAMP:20260420T153515
CREATED:20221214T043824Z
LAST-MODIFIED:20221214T043824Z
UID:11422-1668297600-1668383999@trinitariansindia.org
SUMMARY:Feast of All Saints of the Order
DESCRIPTION:Community celebrated the feast of all the Trinitarian saints. Fr. Biju celebrated the mass and shared about the life of the saints.
URL:https://trinitariansindia.org/wp/event/feast-of-all-saints-of-the-order/
LOCATION:Holy Trinity Ashram\, Kasaragod
CATEGORIES:Feast
ATTACH;FMTTYPE=image/png:https://trinitariansindia.org/wp/wp-content/uploads/2022/12/KGQ-trinitarian-saints-feast-Nov2022.png
END:VEVENT
END:VCALENDAR