BEGIN:VCALENDAR
VERSION:2.0
PRODID:-//The Trinitarians - India - ECPv5.3.2.1//NONSGML v1.0//EN
CALSCALE:GREGORIAN
METHOD:PUBLISH
X-WR-CALNAME:The Trinitarians - India
X-ORIGINAL-URL:https://trinitariansindia.org/wp
X-WR-CALDESC:Events for The Trinitarians - India
BEGIN:VTIMEZONE
TZID:UTC
BEGIN:STANDARD
TZOFFSETFROM:+0000
TZOFFSETTO:+0000
TZNAME:UTC
DTSTART:20220101T000000
END:STANDARD
END:VTIMEZONE
BEGIN:VEVENT
DTSTART;VALUE=DATE:20220815
DTEND;VALUE=DATE:20220816
DTSTAMP:20260425T021809
CREATED:20220910T171958Z
LAST-MODIFIED:20220910T171958Z
UID:10769-1660521600-1660607999@trinitariansindia.org
SUMMARY:Feast of Assumption and Independence Day
DESCRIPTION:On 15th of August we celebrated the solemnity of the assumption and the 75th Independence day of our country together with the parishioners. The community conducted special adoration\, offering and praying for the catholic church specially for the church in India\, who is under the patronage of Our Lady and for the country\, for all the rulers and peace and harmony in the country. Joining with all the citizens of the country we too hosted the flag on 13th August and expressed our love for the country.
URL:https://trinitariansindia.org/wp/event/feast-of-assumption-and-independence-day-2/
LOCATION:Trinitarian Sisters\, Thrissur\, Holy Trinity Convent\, Thrissur\, Kerala\, 680618\, India
CATEGORIES:Celebration
ATTACH;FMTTYPE=image/png:https://trinitariansindia.org/wp/wp-content/uploads/2022/09/SISTERS-independence-day-Aug2022.png
END:VEVENT
END:VCALENDAR