BEGIN:VCALENDAR
VERSION:2.0
PRODID:-//The Trinitarians - India - ECPv5.3.2.1//NONSGML v1.0//EN
CALSCALE:GREGORIAN
METHOD:PUBLISH
X-WR-CALNAME:The Trinitarians - India
X-ORIGINAL-URL:https://trinitariansindia.org/wp
X-WR-CALDESC:Events for The Trinitarians - India
BEGIN:VTIMEZONE
TZID:UTC
BEGIN:STANDARD
TZOFFSETFROM:+0000
TZOFFSETTO:+0000
TZNAME:UTC
DTSTART:20220101T000000
END:STANDARD
END:VTIMEZONE
BEGIN:VEVENT
DTSTART;VALUE=DATE:20220908
DTEND;VALUE=DATE:20220909
DTSTAMP:20260423T145337
CREATED:20221015T054548Z
LAST-MODIFIED:20221015T054548Z
UID:10979-1662595200-1662681599@trinitariansindia.org
SUMMARY:Feast of Blessed Mother
DESCRIPTION:We had the solemn festivity of the Feast of the Nativity of Blessed Virgin Mary. As part of LCA\, grotto-making competition was conducted for the brothers. The brothers came up with their creativity and prepared stunning grottos with mud and soil. At evening\, we had solemn rosary procession around the campus with the statue.
URL:https://trinitariansindia.org/wp/event/feast-of-blessed-mother/
LOCATION:Holy Trinity Ashram\, Thrissur\, Holy Trinity Ashram\, Thrissur\, Kerala\, 680618\, India
CATEGORIES:Celebration,Feast
ATTACH;FMTTYPE=image/png:https://trinitariansindia.org/wp/wp-content/uploads/2022/10/TCR-Feast-of-Bl.Mother-Sept2022.png
END:VEVENT
END:VCALENDAR