BEGIN:VCALENDAR
VERSION:2.0
PRODID:-//The Trinitarians - India - ECPv5.3.2.1//NONSGML v1.0//EN
CALSCALE:GREGORIAN
METHOD:PUBLISH
X-WR-CALNAME:The Trinitarians - India
X-ORIGINAL-URL:https://trinitariansindia.org/wp
X-WR-CALDESC:Events for The Trinitarians - India
BEGIN:VTIMEZONE
TZID:UTC
BEGIN:STANDARD
TZOFFSETFROM:+0000
TZOFFSETTO:+0000
TZNAME:UTC
DTSTART:20220101T000000
END:STANDARD
END:VTIMEZONE
BEGIN:VEVENT
DTSTART;VALUE=DATE:20221024
DTEND;VALUE=DATE:20221025
DTSTAMP:20260422T043327
CREATED:20221104T045700Z
LAST-MODIFIED:20221104T045700Z
UID:11247-1666569600-1666655999@trinitariansindia.org
SUMMARY:Feast of Holy Redeemer
DESCRIPTION:The feast of Holy Redeemer was celebrated solemnly in the community. Fr. Bitaju presided over the Holy Mass and preached the homily. Fr. Jins concelebrated in the Holy Eucharist.
URL:https://trinitariansindia.org/wp/event/feast-of-holy-redeemer-2/
LOCATION:Holy Trinity Ashram\, Thrissur\, Holy Trinity Ashram\, Thrissur\, Kerala\, 680618\, India
CATEGORIES:Feast
ATTACH;FMTTYPE=image/png:https://trinitariansindia.org/wp/wp-content/uploads/2022/11/TCR-feast-Holy-Redeemer-Oct-2022.png
END:VEVENT
END:VCALENDAR