BEGIN:VCALENDAR
VERSION:2.0
PRODID:-//The Trinitarians - India - ECPv5.3.2.1//NONSGML v1.0//EN
CALSCALE:GREGORIAN
METHOD:PUBLISH
X-WR-CALNAME:The Trinitarians - India
X-ORIGINAL-URL:https://trinitariansindia.org/wp
X-WR-CALDESC:Events for The Trinitarians - India
BEGIN:VTIMEZONE
TZID:UTC
BEGIN:STANDARD
TZOFFSETFROM:+0000
TZOFFSETTO:+0000
TZNAME:UTC
DTSTART:20220101T000000
END:STANDARD
END:VTIMEZONE
BEGIN:VEVENT
DTSTART;VALUE=DATE:20221023
DTEND;VALUE=DATE:20221024
DTSTAMP:20260422T074925
CREATED:20221107T054104Z
LAST-MODIFIED:20221107T054104Z
UID:11304-1666483200-1666569599@trinitariansindia.org
SUMMARY:Feast of Holy Redeemer
DESCRIPTION:Thirthahally community celebrated the feast of the Holy Redeemer on 23rd of October; snacks and Sweets were provided after the holy Eucharist celebration.
URL:https://trinitariansindia.org/wp/event/feast-of-holy-redeemer-3/
LOCATION:Holy Trinity Ashram – Shimoga
CATEGORIES:Feast
ATTACH;FMTTYPE=image/png:https://trinitariansindia.org/wp/wp-content/uploads/2022/11/SHIMOGA-feast-of-holy-Redeemer-Oct-2022.png
END:VEVENT
END:VCALENDAR