BEGIN:VCALENDAR
VERSION:2.0
PRODID:-//The Trinitarians - India - ECPv5.3.2.1//NONSGML v1.0//EN
CALSCALE:GREGORIAN
METHOD:PUBLISH
X-WR-CALNAME:The Trinitarians - India
X-ORIGINAL-URL:https://trinitariansindia.org/wp
X-WR-CALDESC:Events for The Trinitarians - India
BEGIN:VTIMEZONE
TZID:UTC
BEGIN:STANDARD
TZOFFSETFROM:+0000
TZOFFSETTO:+0000
TZNAME:UTC
DTSTART:20220101T000000
END:STANDARD
END:VTIMEZONE
BEGIN:VEVENT
DTSTART;VALUE=DATE:20220911
DTEND;VALUE=DATE:20220912
DTSTAMP:20260423T053107
CREATED:20221015T034834Z
LAST-MODIFIED:20221015T034834Z
UID:10934-1662854400-1662940799@trinitariansindia.org
SUMMARY:Feast of Madonna del Reposo
DESCRIPTION:We celebrated the feast of Madonna del Reposo.  The festal mass was at 11’0 clock by Rev Fr. Dr. Armando. In the evening Frs. Jolly and Joshi celebrated Holy Mass\, followed by a procession surrounding the village. Then there was grand fireworks.
URL:https://trinitariansindia.org/wp/event/feast-of-madonna-del-reposo-2/
LOCATION:Rome
CATEGORIES:Feast
ATTACH;FMTTYPE=image/png:https://trinitariansindia.org/wp/wp-content/uploads/2022/10/ITALY-happy-feast-Sept2022-1.png
END:VEVENT
END:VCALENDAR