BEGIN:VCALENDAR
VERSION:2.0
PRODID:-//The Trinitarians - India - ECPv5.3.2.1//NONSGML v1.0//EN
CALSCALE:GREGORIAN
METHOD:PUBLISH
X-WR-CALNAME:The Trinitarians - India
X-ORIGINAL-URL:https://trinitariansindia.org/wp
X-WR-CALDESC:Events for The Trinitarians - India
BEGIN:VTIMEZONE
TZID:UTC
BEGIN:STANDARD
TZOFFSETFROM:+0000
TZOFFSETTO:+0000
TZNAME:UTC
DTSTART:20200101T000000
END:STANDARD
END:VTIMEZONE
BEGIN:VEVENT
DTSTART;VALUE=DATE:20200531
DTEND;VALUE=DATE:20200601
DTSTAMP:20260422T073842
CREATED:20200610T163150Z
LAST-MODIFIED:20200610T163150Z
UID:7520-1590883200-1590969599@trinitariansindia.org
SUMMARY:Feast of Pentecost
DESCRIPTION:We ended the month of May with a beautiful Trinitarian family celebration.  Taking advantage of the occasion of the celebration of the day of Pentecost\, we invited our dear Trinitarian Fathers to celebrate Mass and then enjoy a good meal.  It was a beautiful day\, where there was laughter\, a very sincere sharing and brotherhood.  Thank you\, God Trinity\, for the gift of our Trinitarian Fathers. \nY terminamos el mes de Mayo con una hermosa celebración en Familia Trinitaria.  Aprovechando la ocasión de la celebración del día de Pentecostés\, invitamos a nuestros queridos Padres Trinitarios a celebrar la Misa y luego disfrutar de una buena comida. Fue un día precioso\, donde hubo risas\, un compartir muy sincero y se podía respirar la fraternidad. Gracias Dios Trinidad por el regalo de nuestros Padres Trinitarios.
URL:https://trinitariansindia.org/wp/event/feast-of-pentecost-2/
LOCATION:Trinitarian Sisters\, Thrissur\, Holy Trinity Convent\, Thrissur\, Kerala\, 680618\, India
CATEGORIES:Celebration,Feast
ATTACH;FMTTYPE=image/png:https://trinitariansindia.org/wp/wp-content/uploads/2020/06/SISTERS-Pentecost-fellowship-May-2020.png
END:VEVENT
END:VCALENDAR