BEGIN:VCALENDAR
VERSION:2.0
PRODID:-//The Trinitarians - India - ECPv5.3.2.1//NONSGML v1.0//EN
CALSCALE:GREGORIAN
METHOD:PUBLISH
X-WR-CALNAME:The Trinitarians - India
X-ORIGINAL-URL:https://trinitariansindia.org/wp
X-WR-CALDESC:Events for The Trinitarians - India
BEGIN:VTIMEZONE
TZID:UTC
BEGIN:STANDARD
TZOFFSETFROM:+0000
TZOFFSETTO:+0000
TZNAME:UTC
DTSTART:20230101T000000
END:STANDARD
END:VTIMEZONE
BEGIN:VEVENT
DTSTART;VALUE=DATE:20230728
DTEND;VALUE=DATE:20230729
DTSTAMP:20260423T182901
CREATED:20230805T095823Z
LAST-MODIFIED:20230805T095823Z
UID:12142-1690502400-1690588799@trinitariansindia.org
SUMMARY:Feast of St. Alphonsa
DESCRIPTION:The community celebrated the feast of St. Alphonsa.  Fr. Biju and Fr. Joshy celebrated the holy Qurbana at St. Joseph’s Church\, Kottakanni.
URL:https://trinitariansindia.org/wp/event/feast-of-st-alphonsa-4/
LOCATION:Holy Trinity Ashram\, Kasaragod
CATEGORIES:Feast
ATTACH;FMTTYPE=image/png:https://trinitariansindia.org/wp/wp-content/uploads/2023/08/KGQ-feast-of-St.-Alphonsal-July2023.png
END:VEVENT
END:VCALENDAR