BEGIN:VCALENDAR
VERSION:2.0
PRODID:-//The Trinitarians - India - ECPv5.3.2.1//NONSGML v1.0//EN
CALSCALE:GREGORIAN
METHOD:PUBLISH
X-WR-CALNAME:The Trinitarians - India
X-ORIGINAL-URL:https://trinitariansindia.org/wp
X-WR-CALDESC:Events for The Trinitarians - India
BEGIN:VTIMEZONE
TZID:UTC
BEGIN:STANDARD
TZOFFSETFROM:+0000
TZOFFSETTO:+0000
TZNAME:UTC
DTSTART:20240101T000000
END:STANDARD
END:VTIMEZONE
BEGIN:VEVENT
DTSTART;VALUE=DATE:20240728
DTEND;VALUE=DATE:20240729
DTSTAMP:20260420T183218
CREATED:20240911T103257Z
LAST-MODIFIED:20240911T103257Z
UID:13376-1722124800-1722211199@trinitariansindia.org
SUMMARY:Feast of St. Alphonsa
DESCRIPTION:On July 28th Sunday we celebrated the feast of St. Alphonsa\, and we went to Bharanaganam. Also we wish Sr. Alphonsa on her feast day and we prayed for her and her presence in our community.   As St. Alphonsa was the first saint from India; it was a great privilege for us to go and visit the tomb of St. Alphonsa on the very day.
URL:https://trinitariansindia.org/wp/event/feast-of-st-alphonsa-5/
LOCATION:Holy Trinity Ashram – Bengaluru\, Holy Trinity Ashram\, Bengaluru\, karnataka\, 560076\, India
CATEGORIES:Feast
ATTACH;FMTTYPE=image/png:https://trinitariansindia.org/wp/wp-content/uploads/2024/09/SISTERS-Feast-of-Sr-Alphonsa-July2024.png
END:VEVENT
END:VCALENDAR