BEGIN:VCALENDAR
VERSION:2.0
PRODID:-//The Trinitarians - India - ECPv5.3.2.1//NONSGML v1.0//EN
CALSCALE:GREGORIAN
METHOD:PUBLISH
X-WR-CALNAME:The Trinitarians - India
X-ORIGINAL-URL:https://trinitariansindia.org/wp
X-WR-CALDESC:Events for The Trinitarians - India
BEGIN:VTIMEZONE
TZID:UTC
BEGIN:STANDARD
TZOFFSETFROM:+0000
TZOFFSETTO:+0000
TZNAME:UTC
DTSTART:20190101T000000
END:STANDARD
END:VTIMEZONE
BEGIN:VEVENT
DTSTART;VALUE=DATE:20190214
DTEND;VALUE=DATE:20190215
DTSTAMP:20260420T183815
CREATED:20190306T165546Z
LAST-MODIFIED:20190306T165546Z
UID:5743-1550102400-1550188799@trinitariansindia.org
SUMMARY:Feast of St. John Baptist of the Conception
DESCRIPTION:Community celebrated the feast of our reformer\, St. John the Baptist of the Conception. Fr. Vinay O.SS.T. was the main celebrant for the Holy Eucharist and delivered a meaningful homily. Fr. Jaison con-celebrated and there was a sumptuous meal as part of the festal day.
URL:https://trinitariansindia.org/wp/event/feast-of-st-john-baptist-of-the-conception/
LOCATION:Holy Trinity Ashram\, Thrissur\, Holy Trinity Ashram\, Thrissur\, Kerala\, 680618\, India
CATEGORIES:Celebration,Feast
ATTACH;FMTTYPE=image/png:https://trinitariansindia.org/wp/wp-content/uploads/2019/03/TCR-feast-of-the-Reformer-Feb2019.png
END:VEVENT
END:VCALENDAR