BEGIN:VCALENDAR
VERSION:2.0
PRODID:-//The Trinitarians - India - ECPv5.3.2.1//NONSGML v1.0//EN
CALSCALE:GREGORIAN
METHOD:PUBLISH
X-WR-CALNAME:The Trinitarians - India
X-ORIGINAL-URL:https://trinitariansindia.org/wp
X-WR-CALDESC:Events for The Trinitarians - India
BEGIN:VTIMEZONE
TZID:UTC
BEGIN:STANDARD
TZOFFSETFROM:+0000
TZOFFSETTO:+0000
TZNAME:UTC
DTSTART:20210101T000000
END:STANDARD
END:VTIMEZONE
BEGIN:VEVENT
DTSTART;VALUE=DATE:20211217
DTEND;VALUE=DATE:20211218
DTSTAMP:20260423T044422
CREATED:20220113T084454Z
LAST-MODIFIED:20220113T084454Z
UID:9778-1639699200-1639785599@trinitariansindia.org
SUMMARY:Feast of St. John De Matha
DESCRIPTION:The feast of our founder\, St. John De Matha was celebrated in a splendid way. The Trinitarian sisters and the Third Order members unanimously joined for the celebrations. Fr. Saneesh celebrated the Holy Eucharist and Fr. Jins preached the homily. The get-together of the Trinitarian family ended with an agape\, thereafter.
URL:https://trinitariansindia.org/wp/event/feast-of-st-john-de-matha-23/
LOCATION:Holy Trinity Ashram\, Thrissur\, Holy Trinity Ashram\, Thrissur\, Kerala\, 680618\, India
CATEGORIES:Feast
ATTACH;FMTTYPE=image/png:https://trinitariansindia.org/wp/wp-content/uploads/2022/01/TCR-feast-of-st-john-de-matha-Dec2021.png
END:VEVENT
END:VCALENDAR