BEGIN:VCALENDAR
VERSION:2.0
PRODID:-//The Trinitarians - India - ECPv5.3.2.1//NONSGML v1.0//EN
CALSCALE:GREGORIAN
METHOD:PUBLISH
X-WR-CALNAME:The Trinitarians - India
X-ORIGINAL-URL:https://trinitariansindia.org/wp
X-WR-CALDESC:Events for The Trinitarians - India
BEGIN:VTIMEZONE
TZID:UTC
BEGIN:STANDARD
TZOFFSETFROM:+0000
TZOFFSETTO:+0000
TZNAME:UTC
DTSTART:20170101T000000
END:STANDARD
END:VTIMEZONE
BEGIN:VEVENT
DTSTART;VALUE=DATE:20171217
DTEND;VALUE=DATE:20171218
DTSTAMP:20260419T233510
CREATED:20180129T132449Z
LAST-MODIFIED:20180129T132449Z
UID:3824-1513468800-1513555199@trinitariansindia.org
SUMMARY:Feast of St. John De Matha
DESCRIPTION:The Assam community celebrated the feast of St. John De Matha with the religious of Kumarikata zone. We had Holy Mass and a grand meal thereafter.  Fr. Jojo celebrated the Mass and Fr. Biju delivered the homily.
URL:https://trinitariansindia.org/wp/event/feast-of-st-john-de-matha-6/
LOCATION:Tritva Bhavan\, Assam
CATEGORIES:Celebration,Feast
ATTACH;FMTTYPE=image/png:https://trinitariansindia.org/wp/wp-content/uploads/2018/01/Assam-Feast-St.-John-de-Matha-Dec.17.png
END:VEVENT
END:VCALENDAR