BEGIN:VCALENDAR
VERSION:2.0
PRODID:-//The Trinitarians - India - ECPv5.3.2.1//NONSGML v1.0//EN
CALSCALE:GREGORIAN
METHOD:PUBLISH
X-WR-CALNAME:The Trinitarians - India
X-ORIGINAL-URL:https://trinitariansindia.org/wp
X-WR-CALDESC:Events for The Trinitarians - India
BEGIN:VTIMEZONE
TZID:UTC
BEGIN:STANDARD
TZOFFSETFROM:+0000
TZOFFSETTO:+0000
TZNAME:UTC
DTSTART:20260101T000000
END:STANDARD
END:VTIMEZONE
BEGIN:VEVENT
DTSTART;VALUE=DATE:20260319
DTEND;VALUE=DATE:20260320
DTSTAMP:20260423T054905
CREATED:20260417T173652Z
LAST-MODIFIED:20260417T173652Z
UID:14030-1773878400-1773964799@trinitariansindia.org
SUMMARY:Feast of St. Joseph
DESCRIPTION:On the feast of Blessed St. Joseph\, the sisters gathered for another intense spiritual moment. We had prepared for this day with a nine-day novena\, seeking his guidance and assistance in our lives and mission. On the feast day\, we reflected on the virtues of St. Joseph—his humility\, fidelity\, silent strength\, and unwavering trust in God. The prayer session helped us to entrust our community\, our responsibilities\, and our future into his powerful intercession. It was a day filled with peace\, inspiration\, and spiritual renewal.
URL:https://trinitariansindia.org/wp/event/feast-of-st-joseph-8/
LOCATION:Trinitarian Sisters\, Thrissur\, Holy Trinity Convent\, Thrissur\, Kerala\, 680618\, India
CATEGORIES:Feast
ATTACH;FMTTYPE=image/png:https://trinitariansindia.org/wp/wp-content/uploads/2026/04/SISTERS-fest-St-Joseph-March2026.png
END:VEVENT
END:VCALENDAR