BEGIN:VCALENDAR
VERSION:2.0
PRODID:-//The Trinitarians - India - ECPv5.3.2.1//NONSGML v1.0//EN
CALSCALE:GREGORIAN
METHOD:PUBLISH
X-WR-CALNAME:The Trinitarians - India
X-ORIGINAL-URL:https://trinitariansindia.org/wp
X-WR-CALDESC:Events for The Trinitarians - India
BEGIN:VTIMEZONE
TZID:UTC
BEGIN:STANDARD
TZOFFSETFROM:+0000
TZOFFSETTO:+0000
TZNAME:UTC
DTSTART:20240101T000000
END:STANDARD
END:VTIMEZONE
BEGIN:VEVENT
DTSTART;VALUE=DATE:20240804
DTEND;VALUE=DATE:20240805
DTSTAMP:20260420T163208
CREATED:20240927T122823Z
LAST-MODIFIED:20240927T122823Z
UID:13462-1722729600-1722815999@trinitariansindia.org
SUMMARY:Feast of St. Maria Vianney
DESCRIPTION:The community celebrated the feast of St. John Maria Vianney. The brothers wished all the fathers on this special occasion and prayed for them.
URL:https://trinitariansindia.org/wp/event/feast-of-st-maria-vianney-2/
LOCATION:Holy Trinity Ashram – Bengaluru\, Holy Trinity Ashram\, Bengaluru\, karnataka\, 560076\, India
CATEGORIES:Feast
ATTACH;FMTTYPE=image/png:https://trinitariansindia.org/wp/wp-content/uploads/2024/09/BLR-feast-of-Vianney-Aug2024.png
END:VEVENT
END:VCALENDAR