BEGIN:VCALENDAR
VERSION:2.0
PRODID:-//The Trinitarians - India - ECPv5.3.2.1//NONSGML v1.0//EN
CALSCALE:GREGORIAN
METHOD:PUBLISH
X-WR-CALNAME:The Trinitarians - India
X-ORIGINAL-URL:https://trinitariansindia.org/wp
X-WR-CALDESC:Events for The Trinitarians - India
BEGIN:VTIMEZONE
TZID:UTC
BEGIN:STANDARD
TZOFFSETFROM:+0000
TZOFFSETTO:+0000
TZNAME:UTC
DTSTART:20220101T000000
END:STANDARD
END:VTIMEZONE
BEGIN:VEVENT
DTSTART;VALUE=DATE:20220804
DTEND;VALUE=DATE:20220805
DTSTAMP:20260425T215258
CREATED:20220912T125238Z
LAST-MODIFIED:20220912T125238Z
UID:10793-1659571200-1659657599@trinitariansindia.org
SUMMARY:Feast of St. Maria Vianney
DESCRIPTION:The Community celebrated the Priests Day with more joy. Fr. Saneesh celebrated the Holy Eucharist and preached the homily. We had a wishing ceremony in the evening. Bro. Peter felicitated all the priests on behalf of the community and Frs. Mathew\, Bitaju and Saneesh cut the cake and shared the joy of the day.
URL:https://trinitariansindia.org/wp/event/feast-of-st-maria-vianney/
LOCATION:Holy Trinity Ashram\, Thrissur\, Holy Trinity Ashram\, Thrissur\, Kerala\, 680618\, India
CATEGORIES:Celebration,Feast
ATTACH;FMTTYPE=image/png:https://trinitariansindia.org/wp/wp-content/uploads/2022/09/TCR-feast-of-priests-Aug2022.png
END:VEVENT
END:VCALENDAR