BEGIN:VCALENDAR
VERSION:2.0
PRODID:-//The Trinitarians - India - ECPv5.3.2.1//NONSGML v1.0//EN
CALSCALE:GREGORIAN
METHOD:PUBLISH
X-WR-CALNAME:The Trinitarians - India
X-ORIGINAL-URL:https://trinitariansindia.org/wp
X-WR-CALDESC:Events for The Trinitarians - India
BEGIN:VTIMEZONE
TZID:UTC
BEGIN:STANDARD
TZOFFSETFROM:+0000
TZOFFSETTO:+0000
TZNAME:UTC
DTSTART:20220101T000000
END:STANDARD
END:VTIMEZONE
BEGIN:VEVENT
DTSTART;VALUE=DATE:20220921
DTEND;VALUE=DATE:20220922
DTSTAMP:20260422T113556
CREATED:20221015T052336Z
LAST-MODIFIED:20221015T052336Z
UID:10963-1663718400-1663804799@trinitariansindia.org
SUMMARY:Feast of St. Mathew
DESCRIPTION:The Feast of St. Mathew was celebrated in the community solemnly. Fr. Mathew could not join with the community as he was making his retreat. Fr\, Jins celebrated the Holy Eucharist and delivered a meaningful homily which reflected the transformation of a Tax-Collector to an Apostle.
URL:https://trinitariansindia.org/wp/event/feast-of-st-mathew-2/
LOCATION:Holy Trinity Ashram\, Thrissur\, Holy Trinity Ashram\, Thrissur\, Kerala\, 680618\, India
CATEGORIES:Feast
ATTACH;FMTTYPE=image/png:https://trinitariansindia.org/wp/wp-content/uploads/2022/10/TCR-Feast-of-St.-Mathew-Sept2022.png
END:VEVENT
END:VCALENDAR