BEGIN:VCALENDAR
VERSION:2.0
PRODID:-//The Trinitarians - India - ECPv5.3.2.1//NONSGML v1.0//EN
CALSCALE:GREGORIAN
METHOD:PUBLISH
X-WR-CALNAME:The Trinitarians - India
X-ORIGINAL-URL:https://trinitariansindia.org/wp
X-WR-CALDESC:Events for The Trinitarians - India
BEGIN:VTIMEZONE
TZID:UTC
BEGIN:STANDARD
TZOFFSETFROM:+0000
TZOFFSETTO:+0000
TZNAME:UTC
DTSTART:20220101T000000
END:STANDARD
END:VTIMEZONE
BEGIN:VEVENT
DTSTART;VALUE=DATE:20221028
DTEND;VALUE=DATE:20221029
DTSTAMP:20260422T011510
CREATED:20221104T045442Z
LAST-MODIFIED:20221104T045442Z
UID:11243-1666915200-1667001599@trinitariansindia.org
SUMMARY:Feast of Sts. Simon and Jude
DESCRIPTION:We celebrated the Feast of Sts. Simon and Jude vibrantly. Fr. Joseph celebrated the Holy Eucharist and preached the homily. Fr. Joseph highlighted on the importance of imitating the life-example of Sts. Simon and Jude.
URL:https://trinitariansindia.org/wp/event/feast-of-sts-simon-and-jude/
LOCATION:Holy Trinity Ashram\, Thrissur\, Holy Trinity Ashram\, Thrissur\, Kerala\, 680618\, India
CATEGORIES:Feast
ATTACH;FMTTYPE=image/png:https://trinitariansindia.org/wp/wp-content/uploads/2022/11/TCR-feast-of-Sts.-Simon-and-Jude-Oct-2022.png
END:VEVENT
END:VCALENDAR