BEGIN:VCALENDAR
VERSION:2.0
PRODID:-//The Trinitarians - India - ECPv5.3.2.1//NONSGML v1.0//EN
CALSCALE:GREGORIAN
METHOD:PUBLISH
X-WR-CALNAME:The Trinitarians - India
X-ORIGINAL-URL:https://trinitariansindia.org/wp
X-WR-CALDESC:Events for The Trinitarians - India
BEGIN:VTIMEZONE
TZID:UTC
BEGIN:STANDARD
TZOFFSETFROM:+0000
TZOFFSETTO:+0000
TZNAME:UTC
DTSTART:20190101T000000
END:STANDARD
END:VTIMEZONE
BEGIN:VEVENT
DTSTART;VALUE=DATE:20190214
DTEND;VALUE=DATE:20190215
DTSTAMP:20260420T133434
CREATED:20190303T161840Z
LAST-MODIFIED:20190303T161840Z
UID:5652-1550102400-1550188799@trinitariansindia.org
SUMMARY:Feast of the Reformer
DESCRIPTION:On the feast of the reformer\, Fr. Shinu presided over the Eucharistic celebrations. It was celebrated with the Third Order members on 24th.
URL:https://trinitariansindia.org/wp/event/feast-of-the-reformer/
LOCATION:Holy Trinity Ashram\, Kasaragod
CATEGORIES:Celebration,Feast
ATTACH;FMTTYPE=image/png:https://trinitariansindia.org/wp/wp-content/uploads/2019/03/KGQ-feast-of-reformer-Feb2019.png
END:VEVENT
END:VCALENDAR