BEGIN:VCALENDAR
VERSION:2.0
PRODID:-//The Trinitarians - India - ECPv5.3.2.1//NONSGML v1.0//EN
CALSCALE:GREGORIAN
METHOD:PUBLISH
X-WR-CALNAME:The Trinitarians - India
X-ORIGINAL-URL:https://trinitariansindia.org/wp
X-WR-CALDESC:Events for The Trinitarians - India
BEGIN:VTIMEZONE
TZID:UTC
BEGIN:STANDARD
TZOFFSETFROM:+0000
TZOFFSETTO:+0000
TZNAME:UTC
DTSTART:20220101T000000
END:STANDARD
END:VTIMEZONE
BEGIN:VEVENT
DTSTART;VALUE=DATE:20220806
DTEND;VALUE=DATE:20220807
DTSTAMP:20260425T200330
CREATED:20220912T125135Z
LAST-MODIFIED:20220912T125135Z
UID:10791-1659744000-1659830399@trinitariansindia.org
SUMMARY:Feast of Transfiguration
DESCRIPTION:We celebrated the feast of the Transfiguration of the Lord. Fr. Saneesh offered the Holy Eucharist and preached the homily. He pointed out the ways by which we can experience the transfiguration in our day-to-day life.
URL:https://trinitariansindia.org/wp/event/feast-of-transfiguration/
LOCATION:Holy Trinity Ashram\, Thrissur\, Holy Trinity Ashram\, Thrissur\, Kerala\, 680618\, India
CATEGORIES:Feast
ATTACH;FMTTYPE=image/png:https://trinitariansindia.org/wp/wp-content/uploads/2022/09/TCR-feast-of-transfiguration-Aug2022.png
END:VEVENT
END:VCALENDAR