BEGIN:VCALENDAR
VERSION:2.0
PRODID:-//The Trinitarians - India - ECPv5.3.2.1//NONSGML v1.0//EN
CALSCALE:GREGORIAN
METHOD:PUBLISH
X-WR-CALNAME:The Trinitarians - India
X-ORIGINAL-URL:https://trinitariansindia.org/wp
X-WR-CALDESC:Events for The Trinitarians - India
BEGIN:VTIMEZONE
TZID:UTC
BEGIN:STANDARD
TZOFFSETFROM:+0000
TZOFFSETTO:+0000
TZNAME:UTC
DTSTART:20220101T000000
END:STANDARD
END:VTIMEZONE
BEGIN:VEVENT
DTSTART;VALUE=DATE:20220531
DTEND;VALUE=DATE:20220601
DTSTAMP:20260425T020041
CREATED:20220611T101840Z
LAST-MODIFIED:20220611T101840Z
UID:10229-1653955200-1654041599@trinitariansindia.org
SUMMARY:Feast of Visitation of Blessed Mother
DESCRIPTION:The Community celebrated the Feast of Visitation of Mother Mary to Elizabeth and the conclusion of the month of May. The community had a solemn Mass presided over by Fr. Saneesh and the Rosary Procession and a short reflection by Bro. Nysal in the evening.
URL:https://trinitariansindia.org/wp/event/feast-of-visitation-of-blessed-mother/
LOCATION:Holy Trinity Ashram\, Kasaragod
CATEGORIES:Celebration
ATTACH;FMTTYPE=image/png:https://trinitariansindia.org/wp/wp-content/uploads/2022/06/KGQ-Feast-of-visitation-May2022.png
END:VEVENT
END:VCALENDAR