BEGIN:VCALENDAR
VERSION:2.0
PRODID:-//The Trinitarians - India - ECPv5.3.2.1//NONSGML v1.0//EN
CALSCALE:GREGORIAN
METHOD:PUBLISH
X-WR-CALNAME:The Trinitarians - India
X-ORIGINAL-URL:https://trinitariansindia.org/wp
X-WR-CALDESC:Events for The Trinitarians - India
BEGIN:VTIMEZONE
TZID:UTC
BEGIN:STANDARD
TZOFFSETFROM:+0000
TZOFFSETTO:+0000
TZNAME:UTC
DTSTART:20220101T000000
END:STANDARD
END:VTIMEZONE
BEGIN:VEVENT
DTSTART;VALUE=DATE:20220728
DTEND;VALUE=DATE:20220729
DTSTAMP:20260426T025322
CREATED:20220814T095748Z
LAST-MODIFIED:20220814T095748Z
UID:10593-1658966400-1659052799@trinitariansindia.org
SUMMARY:Feast St. Alphonsa
DESCRIPTION:We celebrated the Feast of St. Alphonsa and we were blessed to have Sr. Alphonsa\, the Superior of the Trinitarians India with us. Fr. Bitaju offered the Holy Eucharist and preached the homily. We specially prayed for her and wished her after the Holy Mass. Fr. Bitaju presented the bouquet on behalf of the community.
URL:https://trinitariansindia.org/wp/event/feast-st-alphonsa/
LOCATION:Holy Trinity Ashram\, Thrissur\, Holy Trinity Ashram\, Thrissur\, Kerala\, 680618\, India
CATEGORIES:Feast
ATTACH;FMTTYPE=image/png:https://trinitariansindia.org/wp/wp-content/uploads/2022/08/TCR-Happy-feast-Sr.Alphonsa-July2022.png
END:VEVENT
END:VCALENDAR