BEGIN:VCALENDAR
VERSION:2.0
PRODID:-//The Trinitarians - India - ECPv5.3.2.1//NONSGML v1.0//EN
CALSCALE:GREGORIAN
METHOD:PUBLISH
X-WR-CALNAME:The Trinitarians - India
X-ORIGINAL-URL:https://trinitariansindia.org/wp
X-WR-CALDESC:Events for The Trinitarians - India
BEGIN:VTIMEZONE
TZID:UTC
BEGIN:STANDARD
TZOFFSETFROM:+0000
TZOFFSETTO:+0000
TZNAME:UTC
DTSTART:20230101T000000
END:STANDARD
END:VTIMEZONE
BEGIN:VEVENT
DTSTART;VALUE=DATE:20230720
DTEND;VALUE=DATE:20230721
DTSTAMP:20260424T161055
CREATED:20230802T101433Z
LAST-MODIFIED:20230802T101433Z
UID:12119-1689811200-1689897599@trinitariansindia.org
SUMMARY:Felicitation and Congratulations
DESCRIPTION:The Community Honoured and Felicitated Bishop Aldo Berardi as he was elected as the Vicar Apostolate of the Apostolic Vicariate of northern Arabia and also Celebrated his 33rd Ordination anniversary in the community. We also felicitated Deacon Prakash as he was ordained as Deacon. There were Cultural programmes as part of the programme. We invited Third Order members too. \nThe Community congratulated and wished Mr Milton and Mrs Littleflower who were married recently. We also wished Mr Biju Mathew as he celebrates his birthday. His family also was present for the programme. \nThe Community welcomed Mr Jiju John (USA) and his family to the community. They have come to stay a few days in the community.
URL:https://trinitariansindia.org/wp/event/felicitation-and-congratulations/
LOCATION:Holy Trinity Ashram – Bengaluru\, Holy Trinity Ashram\, Bengaluru\, karnataka\, 560076\, India
CATEGORIES:Congratulations,Welcome
ATTACH;FMTTYPE=image/png:https://trinitariansindia.org/wp/wp-content/uploads/2023/08/BLR-falicitationwelcomecongrats-July2023.png
END:VEVENT
END:VCALENDAR