BEGIN:VCALENDAR
VERSION:2.0
PRODID:-//The Trinitarians - India - ECPv5.3.2.1//NONSGML v1.0//EN
CALSCALE:GREGORIAN
METHOD:PUBLISH
X-WR-CALNAME:The Trinitarians - India
X-ORIGINAL-URL:https://trinitariansindia.org/wp
X-WR-CALDESC:Events for The Trinitarians - India
BEGIN:VTIMEZONE
TZID:UTC
BEGIN:STANDARD
TZOFFSETFROM:+0000
TZOFFSETTO:+0000
TZNAME:UTC
DTSTART:20200101T000000
END:STANDARD
END:VTIMEZONE
BEGIN:VEVENT
DTSTART;VALUE=DATE:20200616
DTEND;VALUE=DATE:20200617
DTSTAMP:20260423T011214
CREATED:20200716T131607Z
LAST-MODIFIED:20200716T131607Z
UID:7610-1592265600-1592351999@trinitariansindia.org
SUMMARY:First Day of the Academic Year 2020-2021
DESCRIPTION:The first day of the Academic Year 2020-2021 was marked an assembly in our portico at 8:45am. Fr. Bitaju\, the rector addressed the assembly. The community decided to have assembly everyday at 8:45 am.
URL:https://trinitariansindia.org/wp/event/first-day-of-the-academic-year-2020-2021/
LOCATION:Holy Trinity Ashram\, Thrissur\, Holy Trinity Ashram\, Thrissur\, Kerala\, 680618\, India
ATTACH;FMTTYPE=image/png:https://trinitariansindia.org/wp/wp-content/uploads/2020/07/TCR-first-day-of-academic-year-June2020.png
END:VEVENT
END:VCALENDAR