BEGIN:VCALENDAR
VERSION:2.0
PRODID:-//The Trinitarians - India - ECPv5.3.2.1//NONSGML v1.0//EN
CALSCALE:GREGORIAN
METHOD:PUBLISH
X-WR-CALNAME:The Trinitarians - India
X-ORIGINAL-URL:https://trinitariansindia.org/wp
X-WR-CALDESC:Events for The Trinitarians - India
BEGIN:VTIMEZONE
TZID:UTC
BEGIN:STANDARD
TZOFFSETFROM:+0000
TZOFFSETTO:+0000
TZNAME:UTC
DTSTART:20180101T000000
END:STANDARD
END:VTIMEZONE
BEGIN:VEVENT
DTSTART;VALUE=DATE:20181119
DTEND;VALUE=DATE:20181120
DTSTAMP:20260419T152830
CREATED:20181216T045604Z
LAST-MODIFIED:20181216T045604Z
UID:5238-1542585600-1542671999@trinitariansindia.org
SUMMARY:First Holy Communion and Confirmation
DESCRIPTION:The sacrament of the  first holy communion and confirmation in our parish was celebrated. His Grace Archbishop John Moolachira presided over the Mass.  There were eleven children to receive the Sacraments.
URL:https://trinitariansindia.org/wp/event/first-holy-communion-and-confirmation/
LOCATION:Tritva Bhavan\, Assam
CATEGORIES:Celebration
ATTACH;FMTTYPE=image/png:https://trinitariansindia.org/wp/wp-content/uploads/2018/12/ASSAM-first-holy-communion-Nov2018.png
END:VEVENT
END:VCALENDAR