BEGIN:VCALENDAR
VERSION:2.0
PRODID:-//The Trinitarians - India - ECPv5.3.2.1//NONSGML v1.0//EN
CALSCALE:GREGORIAN
METHOD:PUBLISH
X-WR-CALNAME:The Trinitarians - India
X-ORIGINAL-URL:https://trinitariansindia.org/wp
X-WR-CALDESC:Events for The Trinitarians - India
BEGIN:VTIMEZONE
TZID:UTC
BEGIN:STANDARD
TZOFFSETFROM:+0000
TZOFFSETTO:+0000
TZNAME:UTC
DTSTART:20190101T000000
END:STANDARD
END:VTIMEZONE
BEGIN:VEVENT
DTSTART;VALUE=DATE:20190519
DTEND;VALUE=DATE:20190520
DTSTAMP:20260422T092206
CREATED:20190615T045542Z
LAST-MODIFIED:20190615T064504Z
UID:6066-1558224000-1558310399@trinitariansindia.org
SUMMARY:First Holy Communion
DESCRIPTION:The Holy Communion was arranged in two groups. The first group received the First Holy Communion on 19th and the second group on 26th. The both the occasions were grace-filled and blessed. The parents and the parish community were present for the functions.
URL:https://trinitariansindia.org/wp/event/first-holy-communion/
LOCATION:Rome
CATEGORIES:Celebration
ATTACH;FMTTYPE=image/png:https://trinitariansindia.org/wp/wp-content/uploads/2019/06/ITALY-First-holy-communion-May-2019.png
END:VEVENT
END:VCALENDAR