BEGIN:VCALENDAR
VERSION:2.0
PRODID:-//The Trinitarians - India - ECPv5.3.2.1//NONSGML v1.0//EN
CALSCALE:GREGORIAN
METHOD:PUBLISH
X-WR-CALNAME:The Trinitarians - India
X-ORIGINAL-URL:https://trinitariansindia.org/wp
X-WR-CALDESC:Events for The Trinitarians - India
BEGIN:VTIMEZONE
TZID:UTC
BEGIN:STANDARD
TZOFFSETFROM:+0000
TZOFFSETTO:+0000
TZNAME:UTC
DTSTART:20180101T000000
END:STANDARD
END:VTIMEZONE
BEGIN:VEVENT
DTSTART;VALUE=DATE:20180126
DTEND;VALUE=DATE:20180127
DTSTAMP:20260422T043450
CREATED:20180209T163513Z
LAST-MODIFIED:20180209T164614Z
UID:3880-1516924800-1517011199@trinitariansindia.org
SUMMARY:First Prize for March-past
DESCRIPTION:On the Occasion of Republic day\, the Tamulpur Sub-division conducted the March-past competition for the school in the area. Several schools participated in the competition.   St. Xavier’s High School\, Tamulpur\, won the first prize. Fr. Principal congratulated the trainer and the students.
URL:https://trinitariansindia.org/wp/event/first-prize-for-march-past/
LOCATION:Tritva Bhavan\, Assam
ATTACH;FMTTYPE=image/png:https://trinitariansindia.org/wp/wp-content/uploads/2018/02/Assam-parade-winners-Jan-18.png
END:VEVENT
END:VCALENDAR