BEGIN:VCALENDAR
VERSION:2.0
PRODID:-//The Trinitarians - India - ECPv5.3.2.1//NONSGML v1.0//EN
CALSCALE:GREGORIAN
METHOD:PUBLISH
X-WR-CALNAME:The Trinitarians - India
X-ORIGINAL-URL:https://trinitariansindia.org/wp
X-WR-CALDESC:Events for The Trinitarians - India
BEGIN:VTIMEZONE
TZID:UTC
BEGIN:STANDARD
TZOFFSETFROM:+0000
TZOFFSETTO:+0000
TZNAME:UTC
DTSTART:20240101T000000
END:STANDARD
END:VTIMEZONE
BEGIN:VEVENT
DTSTART;VALUE=DATE:20241022
DTEND;VALUE=DATE:20241024
DTSTAMP:20260420T031712
CREATED:20241113T094747Z
LAST-MODIFIED:20241113T094747Z
UID:13604-1729555200-1729727999@trinitariansindia.org
SUMMARY:Follow up Program by Sr. Lilly SMMI
DESCRIPTION:The community welcomed Sr. Lilly as she came for the follow up of the last psychological assessment programme happened in the month of May.
URL:https://trinitariansindia.org/wp/event/follow-up-program-by-sr-lilly-smmi/
LOCATION:Holy Trinity Ashram – Bengaluru\, Holy Trinity Ashram\, Bengaluru\, karnataka\, 560076\, India
CATEGORIES:Animation
ATTACH;FMTTYPE=image/png:https://trinitariansindia.org/wp/wp-content/uploads/2024/11/BLR-welcome-Sr-Lilly-Oct2024.png
END:VEVENT
END:VCALENDAR