BEGIN:VCALENDAR
VERSION:2.0
PRODID:-//The Trinitarians - India - ECPv5.3.2.1//NONSGML v1.0//EN
CALSCALE:GREGORIAN
METHOD:PUBLISH
X-WR-CALNAME:The Trinitarians - India
X-ORIGINAL-URL:https://trinitariansindia.org/wp
X-WR-CALDESC:Events for The Trinitarians - India
BEGIN:VTIMEZONE
TZID:UTC
BEGIN:STANDARD
TZOFFSETFROM:+0000
TZOFFSETTO:+0000
TZNAME:UTC
DTSTART:20170101T000000
END:STANDARD
END:VTIMEZONE
BEGIN:VEVENT
DTSTART;VALUE=DATE:20171217
DTEND;VALUE=DATE:20171218
DTSTAMP:20260419T234239
CREATED:20180124T164800Z
LAST-MODIFIED:20180124T164800Z
UID:3805-1513468800-1513555199@trinitariansindia.org
SUMMARY:Founders feast and Christmas Celebration:
DESCRIPTION:The Third Orders and Trinitarian Sisters Joined the Community for the Adoration\, Cultural Program and agape conducted as part of Founder’s feast and Christmas Program.
URL:https://trinitariansindia.org/wp/event/founders-feast-and-christmas-celebration/
LOCATION:Holy Trinity Ashram\, Thrissur\, Holy Trinity Ashram\, Thrissur\, Kerala\, 680618\, India
CATEGORIES:Celebration,Feast
ATTACH;FMTTYPE=image/png:https://trinitariansindia.org/wp/wp-content/uploads/2018/01/Tcr-feast-of-founder-Dec.-17.png
END:VEVENT
END:VCALENDAR