BEGIN:VCALENDAR
VERSION:2.0
PRODID:-//The Trinitarians - India - ECPv5.3.2.1//NONSGML v1.0//EN
CALSCALE:GREGORIAN
METHOD:PUBLISH
X-WR-CALNAME:The Trinitarians - India
X-ORIGINAL-URL:https://trinitariansindia.org/wp
X-WR-CALDESC:Events for The Trinitarians - India
BEGIN:VTIMEZONE
TZID:UTC
BEGIN:STANDARD
TZOFFSETFROM:+0000
TZOFFSETTO:+0000
TZNAME:UTC
DTSTART:20160101T000000
END:STANDARD
END:VTIMEZONE
BEGIN:VEVENT
DTSTART;VALUE=DATE:20161019
DTEND;VALUE=DATE:20161020
DTSTAMP:20260422T195640
CREATED:20161123T132153Z
LAST-MODIFIED:20161124T051055Z
UID:1875-1476835200-1476921599@trinitariansindia.org
SUMMARY:Fr. Joseph Muthuplackal elected as the Vice Provincial
DESCRIPTION:Rev. Fr. Joseph Muthuplackal\, O.SS.T. was elected as the Vice Provincial by the capitulars. Congratulations and best wishes to Fr. Joseph! \nThanks to Rev. Fr. Simine G. Fernandez\, O.SS.T. who served as the Minister Vicarial and the first Vice Provincial of the newly erected St. Michael of the Saints Vice Province\, India. \n \n 
URL:https://trinitariansindia.org/wp/event/fr-joseph-muthuplackal-elected-as-the-vice-provincial/
LOCATION:Trinitarian Sisters\, Thrissur\, Holy Trinity Convent\, Thrissur\, Kerala\, 680618
ATTACH;FMTTYPE=image/png:https://trinitariansindia.org/wp/wp-content/uploads/2016/10/Fr.-Joseph-Muthuplackal.png
END:VEVENT
END:VCALENDAR