BEGIN:VCALENDAR
VERSION:2.0
PRODID:-//The Trinitarians - India - ECPv5.3.2.1//NONSGML v1.0//EN
CALSCALE:GREGORIAN
METHOD:PUBLISH
X-WR-CALNAME:The Trinitarians - India
X-ORIGINAL-URL:https://trinitariansindia.org/wp
X-WR-CALDESC:Events for The Trinitarians - India
BEGIN:VTIMEZONE
TZID:UTC
BEGIN:STANDARD
TZOFFSETFROM:+0000
TZOFFSETTO:+0000
TZNAME:UTC
DTSTART:20160101T000000
END:STANDARD
END:VTIMEZONE
BEGIN:VEVENT
DTSTART;VALUE=DATE:20161016
DTEND;VALUE=DATE:20161017
DTSTAMP:20260422T224824
CREATED:20161124T051748Z
LAST-MODIFIED:20161124T051748Z
UID:1925-1476576000-1476662399@trinitariansindia.org
SUMMARY:Fr. Mathew Maniamkerry returns
DESCRIPTION:Fr. Mathew Maniamkerry joined the community this morning\, after a month’s stay in Bangalore\, taking care of Fr. Alberto who was recuperating at St. Philomena’s Hospital.
URL:https://trinitariansindia.org/wp/event/fr-mathew-maniamkerry-returns/
LOCATION:Holy Trinity Ashram – Shimoga
ATTACH;FMTTYPE=image/png:https://trinitariansindia.org/wp/wp-content/uploads/2016/11/Shimoga.png
END:VEVENT
END:VCALENDAR