BEGIN:VCALENDAR
VERSION:2.0
PRODID:-//The Trinitarians - India - ECPv5.3.2.1//NONSGML v1.0//EN
CALSCALE:GREGORIAN
METHOD:PUBLISH
X-WR-CALNAME:The Trinitarians - India
X-ORIGINAL-URL:https://trinitariansindia.org/wp
X-WR-CALDESC:Events for The Trinitarians - India
BEGIN:VTIMEZONE
TZID:UTC
BEGIN:STANDARD
TZOFFSETFROM:+0000
TZOFFSETTO:+0000
TZNAME:UTC
DTSTART:20210101T000000
END:STANDARD
END:VTIMEZONE
BEGIN:VEVENT
DTSTART;VALUE=DATE:20211111
DTEND;VALUE=DATE:20211113
DTSTAMP:20260423T221607
CREATED:20211209T164027Z
LAST-MODIFIED:20211209T164027Z
UID:9582-1636588800-1636761599@trinitariansindia.org
SUMMARY:Friendly visit by Fr. Jolly and Parents
DESCRIPTION:Fr. Jolly\, who was in India for vacation now paid a friendly visit to our community along with his brother Sony and parents. We had a nice time with their visit. The community appreciates their thoughtfulness and time.
URL:https://trinitariansindia.org/wp/event/friendly-visit-by-fr-jolly-and-parents/
LOCATION:Holy Trinity Ashram – Shimoga
CATEGORIES:Visit
ATTACH;FMTTYPE=image/png:https://trinitariansindia.org/wp/wp-content/uploads/2021/12/SHIMOGA-visit-of-Fr.Jolly-n-fmly-Nov2021.png
END:VEVENT
END:VCALENDAR