BEGIN:VCALENDAR
VERSION:2.0
PRODID:-//The Trinitarians - India - ECPv5.3.2.1//NONSGML v1.0//EN
CALSCALE:GREGORIAN
METHOD:PUBLISH
X-WR-CALNAME:The Trinitarians - India
X-ORIGINAL-URL:https://trinitariansindia.org/wp
X-WR-CALDESC:Events for The Trinitarians - India
BEGIN:VTIMEZONE
TZID:UTC
BEGIN:STANDARD
TZOFFSETFROM:+0000
TZOFFSETTO:+0000
TZNAME:UTC
DTSTART:20230101T000000
END:STANDARD
END:VTIMEZONE
BEGIN:VEVENT
DTSTART;VALUE=DATE:20231022
DTEND;VALUE=DATE:20231023
DTSTAMP:20260421T114017
CREATED:20231114T162638Z
LAST-MODIFIED:20231114T162638Z
UID:12632-1697932800-1698019199@trinitariansindia.org
SUMMARY:Gathering of the Solemn Professed
DESCRIPTION:The community welcomed all the fathers for their solemn professed gathering. Fathers Xavier\, Jaison\, Bitaju and Joshy and all the priests whom already we welcomed\, and wished them to have fruitful Solemn Professed gathering.
URL:https://trinitariansindia.org/wp/event/gathering-of-the-solemn-professed-2/
LOCATION:Holy Trinity Ashram – Bengaluru\, Holy Trinity Ashram\, Bengaluru\, karnataka\, 560076\, India
CATEGORIES:Gathering
ATTACH;FMTTYPE=image/png:https://trinitariansindia.org/wp/wp-content/uploads/2023/11/TCR-solemn-prof-gathering-Oct2023.png
END:VEVENT
END:VCALENDAR