BEGIN:VCALENDAR
VERSION:2.0
PRODID:-//The Trinitarians - India - ECPv5.3.2.1//NONSGML v1.0//EN
CALSCALE:GREGORIAN
METHOD:PUBLISH
X-WR-CALNAME:The Trinitarians - India
X-ORIGINAL-URL:https://trinitariansindia.org/wp
X-WR-CALDESC:Events for The Trinitarians - India
BEGIN:VTIMEZONE
TZID:UTC
BEGIN:STANDARD
TZOFFSETFROM:+0000
TZOFFSETTO:+0000
TZNAME:UTC
DTSTART:20190101T000000
END:STANDARD
END:VTIMEZONE
BEGIN:VEVENT
DTSTART;VALUE=DATE:20190219
DTEND;VALUE=DATE:20190220
DTSTAMP:20260421T052126
CREATED:20190306T155015Z
LAST-MODIFIED:20190306T155015Z
UID:5696-1550534400-1550620799@trinitariansindia.org
SUMMARY:Get Together with DBRC
DESCRIPTION:We had a get together with the participants who came for a course in Don Bosco Renewal Center\, Blr. They were with us for tea and for a friendly volleyball match. We in a special way thank Fr. Janil for organizing the get together.
URL:https://trinitariansindia.org/wp/event/get-together-with-dbrc/
LOCATION:Holy Trinity Ashram – Bengaluru\, Holy Trinity Ashram\, Bengaluru\, karnataka\, 560076\, India
CATEGORIES:Sports,Visit
ATTACH;FMTTYPE=image/png:https://trinitariansindia.org/wp/wp-content/uploads/2019/03/BLR-welcome-DBRC-Feb2019.png
END:VEVENT
END:VCALENDAR