BEGIN:VCALENDAR
VERSION:2.0
PRODID:-//The Trinitarians - India - ECPv5.3.2.1//NONSGML v1.0//EN
CALSCALE:GREGORIAN
METHOD:PUBLISH
X-WR-CALNAME:The Trinitarians - India
X-ORIGINAL-URL:https://trinitariansindia.org/wp
X-WR-CALDESC:Events for The Trinitarians - India
BEGIN:VTIMEZONE
TZID:UTC
BEGIN:STANDARD
TZOFFSETFROM:+0000
TZOFFSETTO:+0000
TZNAME:UTC
DTSTART:20190101T000000
END:STANDARD
END:VTIMEZONE
BEGIN:VEVENT
DTSTART;VALUE=DATE:20190228
DTEND;VALUE=DATE:20190301
DTSTAMP:20260423T143639
CREATED:20190306T164651Z
LAST-MODIFIED:20190306T164941Z
UID:5735-1551312000-1551398399@trinitariansindia.org
SUMMARY:Golden Jubilee Celebration of Sr. Wilsy\, CMC
DESCRIPTION:The Community celebrated the Golden Jubilee of Sr. Wilsy\, the spiritual mother of our seminarians.  Fr. Jins\, Minister of the community offered Holy Qurbana and prayed for God’s blessings and thereafter there was a wishing program and sumptuous meal for all.
URL:https://trinitariansindia.org/wp/event/golden-jubilee-celebration-of-sr-wilsy-cmc/
LOCATION:Holy Trinity Ashram\, Thrissur\, Holy Trinity Ashram\, Thrissur\, Kerala\, 680618\, India
CATEGORIES:Celebration,Jubilee
ATTACH;FMTTYPE=image/png:https://trinitariansindia.org/wp/wp-content/uploads/2019/03/TCR-jubilee-Feb2019.png
END:VEVENT
END:VCALENDAR