BEGIN:VCALENDAR
VERSION:2.0
PRODID:-//The Trinitarians - India - ECPv5.3.2.1//NONSGML v1.0//EN
CALSCALE:GREGORIAN
METHOD:PUBLISH
X-WR-CALNAME:The Trinitarians - India
X-ORIGINAL-URL:https://trinitariansindia.org/wp
X-WR-CALDESC:Events for The Trinitarians - India
BEGIN:VTIMEZONE
TZID:UTC
BEGIN:STANDARD
TZOFFSETFROM:+0000
TZOFFSETTO:+0000
TZNAME:UTC
DTSTART:20220101T000000
END:STANDARD
END:VTIMEZONE
BEGIN:VEVENT
DTSTART;VALUE=DATE:20220910
DTEND;VALUE=DATE:20220911
DTSTAMP:20260423T084500
CREATED:20221015T035050Z
LAST-MODIFIED:20221015T035050Z
UID:10936-1662768000-1662854399@trinitariansindia.org
SUMMARY:Golden Jubilee of Don Simone
DESCRIPTION:We celebrated the golden jubilee of Don Simone who served in this parish more than 20 years. Don Simone presided over the holy mass. After the holy we presented him a memento.  Also there was small video presentation by the parishioners.  Afterwards along with the parishioners we had sharing of moments of joy with agape.
URL:https://trinitariansindia.org/wp/event/golden-jubilee-of-don-simone/
LOCATION:Rome
CATEGORIES:Jubilee
ATTACH;FMTTYPE=image/png:https://trinitariansindia.org/wp/wp-content/uploads/2022/10/ITALY-happy-feast-Sept2022.png
END:VEVENT
END:VCALENDAR