BEGIN:VCALENDAR
VERSION:2.0
PRODID:-//The Trinitarians - India - ECPv5.3.2.1//NONSGML v1.0//EN
CALSCALE:GREGORIAN
METHOD:PUBLISH
X-WR-CALNAME:The Trinitarians - India
X-ORIGINAL-URL:https://trinitariansindia.org/wp
X-WR-CALDESC:Events for The Trinitarians - India
BEGIN:VTIMEZONE
TZID:UTC
BEGIN:STANDARD
TZOFFSETFROM:+0000
TZOFFSETTO:+0000
TZNAME:UTC
DTSTART:20200101T000000
END:STANDARD
END:VTIMEZONE
BEGIN:VEVENT
DTSTART;VALUE=DATE:20200519
DTEND;VALUE=DATE:20200520
DTSTAMP:20260421T085003
CREATED:20200612T113009Z
LAST-MODIFIED:20200612T113009Z
UID:7559-1589846400-1589932799@trinitariansindia.org
SUMMARY:Happy Anniversary
DESCRIPTION:We celebrated the ordination day of Fr. Bitaju.  Community wished him and prayed for him. We appreciated him for his great leadership and commitment.
URL:https://trinitariansindia.org/wp/event/happy-anniversary/
LOCATION:Holy Trinity Ashram – Bengaluru\, Holy Trinity Ashram\, Bengaluru\, karnataka\, 560076\, India
CATEGORIES:Anniversary
ATTACH;FMTTYPE=image/png:https://trinitariansindia.org/wp/wp-content/uploads/2020/06/BLR-ordinaiton-anniversary-fr.bitaju-May-2020.png
END:VEVENT
END:VCALENDAR