BEGIN:VCALENDAR
VERSION:2.0
PRODID:-//The Trinitarians - India - ECPv5.3.2.1//NONSGML v1.0//EN
CALSCALE:GREGORIAN
METHOD:PUBLISH
X-WR-CALNAME:The Trinitarians - India
X-ORIGINAL-URL:https://trinitariansindia.org/wp
X-WR-CALDESC:Events for The Trinitarians - India
BEGIN:VTIMEZONE
TZID:UTC
BEGIN:STANDARD
TZOFFSETFROM:+0000
TZOFFSETTO:+0000
TZNAME:UTC
DTSTART:20240101T000000
END:STANDARD
END:VTIMEZONE
BEGIN:VEVENT
DTSTART;VALUE=DATE:20241020
DTEND;VALUE=DATE:20241021
DTSTAMP:20260419T202943
CREATED:20241113T100301Z
LAST-MODIFIED:20241113T100301Z
UID:13616-1729382400-1729468799@trinitariansindia.org
SUMMARY:Happy Birthday
DESCRIPTION:The community celebrated the birthday of Miss. Anila\, a Jesus youth member.  She was with our fathers and brothers for the Wayanad relief camp ministry. She thanked the community for making this day more colourful and meaningful.
URL:https://trinitariansindia.org/wp/event/happy-birthday-17/
LOCATION:Holy Trinity Ashram – Bengaluru\, Holy Trinity Ashram\, Bengaluru\, karnataka\, 560076\, India
CATEGORIES:Birthday
ATTACH;FMTTYPE=image/png:https://trinitariansindia.org/wp/wp-content/uploads/2024/11/BLR-Bday-Anila-Oct2024.png
END:VEVENT
END:VCALENDAR