BEGIN:VCALENDAR
VERSION:2.0
PRODID:-//The Trinitarians - India - ECPv5.3.2.1//NONSGML v1.0//EN
CALSCALE:GREGORIAN
METHOD:PUBLISH
X-WR-CALNAME:The Trinitarians - India
X-ORIGINAL-URL:https://trinitariansindia.org/wp
X-WR-CALDESC:Events for The Trinitarians - India
BEGIN:VTIMEZONE
TZID:UTC
BEGIN:STANDARD
TZOFFSETFROM:+0000
TZOFFSETTO:+0000
TZNAME:UTC
DTSTART:20180101T000000
END:STANDARD
END:VTIMEZONE
BEGIN:VEVENT
DTSTART;VALUE=DATE:20181204
DTEND;VALUE=DATE:20181205
DTSTAMP:20260420T133349
CREATED:20190109T101153Z
LAST-MODIFIED:20190109T101153Z
UID:5352-1543881600-1543967999@trinitariansindia.org
SUMMARY:Happy Birthday
DESCRIPTION:Community celebrated the birthday of Br. Jobit. We wished him and offered him the greetings of the day. Bro. Jobit is doing his 3rd year Philosophy at Dharmaram Vidya Kshetram.
URL:https://trinitariansindia.org/wp/event/happy-birthday-6/
LOCATION:Holy Trinity Ashram – Bengaluru\, Holy Trinity Ashram\, Bengaluru\, karnataka\, 560076\, India
CATEGORIES:Birthday
ATTACH;FMTTYPE=image/png:https://trinitariansindia.org/wp/wp-content/uploads/2019/01/BLR-bday-Jobit-Dec.2018.png
END:VEVENT
END:VCALENDAR