BEGIN:VCALENDAR
VERSION:2.0
PRODID:-//The Trinitarians - India - ECPv5.3.2.1//NONSGML v1.0//EN
CALSCALE:GREGORIAN
METHOD:PUBLISH
X-WR-CALNAME:The Trinitarians - India
X-ORIGINAL-URL:https://trinitariansindia.org/wp
X-WR-CALDESC:Events for The Trinitarians - India
BEGIN:VTIMEZONE
TZID:UTC
BEGIN:STANDARD
TZOFFSETFROM:+0000
TZOFFSETTO:+0000
TZNAME:UTC
DTSTART:20220101T000000
END:STANDARD
END:VTIMEZONE
BEGIN:VEVENT
DTSTART;VALUE=DATE:20220920
DTEND;VALUE=DATE:20220921
DTSTAMP:20260422T161302
CREATED:20221015T052620Z
LAST-MODIFIED:20221015T052620Z
UID:10965-1663632000-1663718399@trinitariansindia.org
SUMMARY:Happy Birthday Bro. Alen Jaison
DESCRIPTION:We celebrated the birthday of Bro. Alen Jaison. Bro. Alen John felicitated him on behalf of the community. Bro. Alen Jaison hails from Thrissur\, Kerala and pursues the aspirancy program of the Order.
URL:https://trinitariansindia.org/wp/event/happy-birthday-bro-alen-jaison/
LOCATION:Holy Trinity Ashram\, Thrissur\, Holy Trinity Ashram\, Thrissur\, Kerala\, 680618\, India
CATEGORIES:Birthday
ATTACH;FMTTYPE=image/png:https://trinitariansindia.org/wp/wp-content/uploads/2022/10/TCR-Bday-Alen-Jaison-Sept2022.png
END:VEVENT
END:VCALENDAR