BEGIN:VCALENDAR
VERSION:2.0
PRODID:-//The Trinitarians - India - ECPv5.3.2.1//NONSGML v1.0//EN
CALSCALE:GREGORIAN
METHOD:PUBLISH
X-WR-CALNAME:The Trinitarians - India
X-ORIGINAL-URL:https://trinitariansindia.org/wp
X-WR-CALDESC:Events for The Trinitarians - India
BEGIN:VTIMEZONE
TZID:UTC
BEGIN:STANDARD
TZOFFSETFROM:+0000
TZOFFSETTO:+0000
TZNAME:UTC
DTSTART:20220101T000000
END:STANDARD
END:VTIMEZONE
BEGIN:VEVENT
DTSTART;VALUE=DATE:20220827
DTEND;VALUE=DATE:20220828
DTSTAMP:20260424T091020
CREATED:20220912T124634Z
LAST-MODIFIED:20220912T124634Z
UID:10781-1661558400-1661644799@trinitariansindia.org
SUMMARY:Happy Birthday Bro. Alen Raphy
DESCRIPTION:The community celebrated the birthday of our general beadle\, Bro. Alen Raphy. Bro. Peter felicitated him on behalf of the community and Fr. Bitaju wished him with a bouquet. Bro. Alen Raphy hails from Vadookara\, Thrissur and pursues the plus two studies. His family members arrived here on the next day to wish him.
URL:https://trinitariansindia.org/wp/event/happy-birthday-bro-alen-raphy/
LOCATION:Holy Trinity Ashram\, Thrissur\, Holy Trinity Ashram\, Thrissur\, Kerala\, 680618\, India
CATEGORIES:Birthday
ATTACH;FMTTYPE=image/png:https://trinitariansindia.org/wp/wp-content/uploads/2022/09/TCR-bday-Alen-Raphy-Aug2022.png
END:VEVENT
END:VCALENDAR