BEGIN:VCALENDAR
VERSION:2.0
PRODID:-//The Trinitarians - India - ECPv5.3.2.1//NONSGML v1.0//EN
CALSCALE:GREGORIAN
METHOD:PUBLISH
X-WR-CALNAME:The Trinitarians - India
X-ORIGINAL-URL:https://trinitariansindia.org/wp
X-WR-CALDESC:Events for The Trinitarians - India
BEGIN:VTIMEZONE
TZID:UTC
BEGIN:STANDARD
TZOFFSETFROM:+0000
TZOFFSETTO:+0000
TZNAME:UTC
DTSTART:20210101T000000
END:STANDARD
END:VTIMEZONE
BEGIN:VEVENT
DTSTART;VALUE=DATE:20210607
DTEND;VALUE=DATE:20210608
DTSTAMP:20260421T103809
CREATED:20210719T095424Z
LAST-MODIFIED:20210719T095424Z
UID:8984-1623024000-1623110399@trinitariansindia.org
SUMMARY:Happy Birthday Bro. Bibin KS
DESCRIPTION:Community celebrated the Birthday of Bro. Bibin K. S. All the Fathers and brothers wished him. And it was a memorable day.
URL:https://trinitariansindia.org/wp/event/happy-birthday-bro-bibin-ks/
LOCATION:Tritva Bhavan\, Assam
CATEGORIES:Assam,Birthday
ATTACH;FMTTYPE=image/png:https://trinitariansindia.org/wp/wp-content/uploads/2021/06/ASSAM-Bday-to-Bibin-May2021.png
END:VEVENT
END:VCALENDAR