BEGIN:VCALENDAR
VERSION:2.0
PRODID:-//The Trinitarians - India - ECPv5.3.2.1//NONSGML v1.0//EN
CALSCALE:GREGORIAN
METHOD:PUBLISH
X-WR-CALNAME:The Trinitarians - India
X-ORIGINAL-URL:https://trinitariansindia.org/wp
X-WR-CALDESC:Events for The Trinitarians - India
BEGIN:VTIMEZONE
TZID:UTC
BEGIN:STANDARD
TZOFFSETFROM:+0000
TZOFFSETTO:+0000
TZNAME:UTC
DTSTART:20200101T000000
END:STANDARD
END:VTIMEZONE
BEGIN:VEVENT
DTSTART;VALUE=DATE:20200524
DTEND;VALUE=DATE:20200525
DTSTAMP:20260421T195936
CREATED:20200612T112808Z
LAST-MODIFIED:20200612T112808Z
UID:7557-1590278400-1590364799@trinitariansindia.org
SUMMARY:Happy Birthday Fr. Binoj
DESCRIPTION:The community celebrated the birthday of Fr. Binoj. We wished him and offered him our prayers and blessings of the day.  Fr. Binoj is undergoing a teachers training course\, he also engages the brothers with English language skill training.
URL:https://trinitariansindia.org/wp/event/happy-birthday-fr-binoj/
LOCATION:Holy Trinity Ashram – Bengaluru\, Holy Trinity Ashram\, Bengaluru\, karnataka\, 560076\, India
CATEGORIES:Birthday
ATTACH;FMTTYPE=image/png:https://trinitariansindia.org/wp/wp-content/uploads/2020/06/BLR-bday-of-fr-binoj-May-2020.png
END:VEVENT
END:VCALENDAR