BEGIN:VCALENDAR
VERSION:2.0
PRODID:-//The Trinitarians - India - ECPv5.3.2.1//NONSGML v1.0//EN
CALSCALE:GREGORIAN
METHOD:PUBLISH
X-WR-CALNAME:The Trinitarians - India
X-ORIGINAL-URL:https://trinitariansindia.org/wp
X-WR-CALDESC:Events for The Trinitarians - India
BEGIN:VTIMEZONE
TZID:UTC
BEGIN:STANDARD
TZOFFSETFROM:+0000
TZOFFSETTO:+0000
TZNAME:UTC
DTSTART:20220101T000000
END:STANDARD
END:VTIMEZONE
BEGIN:VEVENT
DTSTART;VALUE=DATE:20221110
DTEND;VALUE=DATE:20221111
DTSTAMP:20260420T205522
CREATED:20221214T103911Z
LAST-MODIFIED:20221214T103911Z
UID:11474-1668038400-1668124799@trinitariansindia.org
SUMMARY:Happy Birthday Mrs. Sherly
DESCRIPTION:We celebrated the birthday of Mrs. Sherly Shantharaj\, our cook today. Fr. Bitaju felicitated her on behalf of the community and offered her our token of appreciation. She cut the cake to share the joy with us.
URL:https://trinitariansindia.org/wp/event/happy-birthday-mrs-sherly-2/
LOCATION:Holy Trinity Ashram\, Thrissur\, Holy Trinity Ashram\, Thrissur\, Kerala\, 680618\, India
CATEGORIES:Birthday
ATTACH;FMTTYPE=image/png:https://trinitariansindia.org/wp/wp-content/uploads/2022/12/TCR-Bday-of-chechi-Nov2022.png
END:VEVENT
END:VCALENDAR