BEGIN:VCALENDAR
VERSION:2.0
PRODID:-//The Trinitarians - India - ECPv5.3.2.1//NONSGML v1.0//EN
CALSCALE:GREGORIAN
METHOD:PUBLISH
X-WR-CALNAME:The Trinitarians - India
X-ORIGINAL-URL:https://trinitariansindia.org/wp
X-WR-CALDESC:Events for The Trinitarians - India
BEGIN:VTIMEZONE
TZID:UTC
BEGIN:STANDARD
TZOFFSETFROM:+0000
TZOFFSETTO:+0000
TZNAME:UTC
DTSTART:20230101T000000
END:STANDARD
END:VTIMEZONE
BEGIN:VEVENT
DTSTART;VALUE=DATE:20231110
DTEND;VALUE=DATE:20231111
DTSTAMP:20260422T090011
CREATED:20231211T170652Z
LAST-MODIFIED:20231211T170652Z
UID:12714-1699574400-1699660799@trinitariansindia.org
SUMMARY:Happy Birthday Mrs. Sherly
DESCRIPTION:The community celebrated the birthday of Sherly Chechi. The community prayed for her and for her family during the Holy Eucharist and wished her. And thereafter followed the cake cutting and greetings of the day.
URL:https://trinitariansindia.org/wp/event/happy-birthday-mrs-sherly-3/
LOCATION:Holy Trinity Ashram\, Thrissur\, Holy Trinity Ashram\, Thrissur\, Kerala\, 680618\, India
CATEGORIES:Birthday
ATTACH;FMTTYPE=image/png:https://trinitariansindia.org/wp/wp-content/uploads/2023/12/TCR-bday-chechi-Nov2023.png
END:VEVENT
END:VCALENDAR